Workbook

Sheet Survey
A1: Weight Gain and Weight Loss Survey
A5: Age (Years): | C5: Gender
A6: o 21-30 | C6: o Females
A7: o 31-40 | C7: o Males
A8: o 41-50
A10: 1. What is your reason for joining this 1-month program? | B10: Why are you participating in this one-month program?
A11: a. To lose weight | B11: a. To decrease weight
A12: b. For better overall health | B12: b. To improve overall health
A13: c. For Fun | B13: c. For sheer enjoyment
A14: 2. What is your weight loss goal? | B14: What's your weight-loss objective?
A15: a. 1-5 lbs. | B15: a. 1–4 lbs.
A16: b. 6-10 lbs. | B16: b. 5–9 lbs.
A17: c. 10+ lbs. | B17: c. 9+ lbs.
A18: 3. What method will you be using? | B18: What approach are you going to use?
A19: a. Eating better | B19: a. Eating more healthily
A20: b. Detox Diet | B20: b. Detoxification Program
A21: c. Exercise | B21: c. Exercising
... A37: c. Friend | B37: c. Yourself

Sheet Survey Response
A1: Age (Years): | B1: Gender | C1: 1. Why are you participating in this one-month program? | D1: 2. What's your weight-loss objective? | E1: 3. What approach are you going to use? | F1: 4. Do you think you will be able to stick to the technique at the end of this period? | G1: 5. What level of satisfaction do you have with this initiative? | H1: 6. Do you think you will take an interest if the initiative is available again? | I1: 7. What is your primary reason for enrolling in this program?
A2: 21-30 | B2: Female | C2: a. To decrease body weight | D2: c. 9+ lbs. | E2: a. Eating more healthily | F2: a. Yes | G2: a. Extremely | H2: c. Maybe | I2: b. Family
A3: 21-30 | B3: Female | C3: b. To improve overall health | D3: b. 5-9 lbs. | E3: c. Exercising | F3: a. Yes | G3: a. Extremely | H3: a. Yes | I3: a. Yourself
A4: 31-40 | B4: Male | C4: a. To decrease body weight | D4: a. 1-4 lbs. | E4: a. Eating more healthily | F4: a. Yes | G4: b. Moderate | H4: a. Yes | I4: b. Family
A5: 41-50 | B5: Male | C5: c. For sheer enjoyment | D5: a. 1-4 lbs. | E5: c. Exercising | F5: c. Perhaps | G5: b. Moderate | H5: c. Maybe | I5: a. Yourself | L5: A | M5: B | N5: C
A6: 21-30 | B6: Male | C6: a. To decrease body weight | D6: c. 9+ lbs. | E6: a. Eating more healthily | F6: a. Yes | G6: a. Extremely | H6: c. Maybe | I6: a. Yourself | K6: Q:1 | L6: =COUNTIF('Survey Response'!C2:C36,"a. To decrease body weight") -> 23 | M6: =COUNTIF('Survey Response'!C2:C36,"b. To improve overall health") -> 7 | N6: =COUNTIF('Survey Response'!C2:C36,"c. For sheer enjoyment") -> 5
A7: 21-30 | B7: Male | C7: a. To decrease body weight | D7: a. 1-4 lbs. | E7: a. Eating more healthily | F7: a. Yes | G7: a. Extremely | H7: a. Yes | I7: b. Family | K7: Q:2 | L7: =COUNTIF('Survey Response'!D2:D36,"a. 1-4 lbs.") -> 22 | M7: =COUNTIF('Survey Response'!D2:D36, "b. 5-9 lbs.") -> 4 | N7: =COUNTIF('Survey Response'!D2:D36, "c. 9+ lbs.") -> 9
A8: 31-40 | B8: Female | C8: a. To decrease body weight | D8: a. 1-4 lbs. | E8: a. Eating more healthily | F8: a. Yes | G8: a. Extremely | H8: a. Yes | I8: a. Yourself | K8: Q:3 | L8: =COUNTIF('Survey Response'!E2:E36,"a. Eating more healthily") -> 25 | M8: =COUNTIF('Survey Response'!E2:E36, "b. Detoxification Program") -> 1 | N8: =COUNTIF('Survey Response'!E2:E36, "c. Exercising") -> 9
A9: 21-30 | B9: Female | C9: a. To decrease body weight | D9: b. 5-9 lbs. | E9: c. Exercising | F9: a. Yes | G9: b. Moderate | H9: a. Yes | I9: a. Yourself | K9: Q:4 | L9: =COUNTIF('Survey Response'!F2:F36, "a. Yes") -> 18 | M9: =COUNTIF('Survey Response'!F2:F36, "b. No") -> 3 | N9: =COUNTIF('Survey Response'!F2:F36, "c. Perhaps") -> 14
A10: 21-30 | B10: Male | C10: b. To improve overall health | D10: b. 5-9 lbs. | E10: a. Eating more healthily | F10: c. Perhaps | G10: b. Moderate | H10: a. Yes | I10: a. Yourself | K10: Q:5 | L10: =COUNTIF('Survey Response'!G2:G36,"a. Extremely") -> 19 | M10: =COUNTIF('Survey Response'!G2:G36, "b. Moderate") -> 10 | N10: =COUNTIF('Survey Response'!G2:G36, "c. Undecided") -> 6
A11: 41-50 | B11: Female | C11: c. For sheer enjoyment | D11: c. 9+ lbs. | E11: a. Eating more healthily | F11: a. Yes | G11: a. Extremely | H11: a. Yes | I11: a. Yourself | K11: Q:6 | L11: =COUNTIF('Survey Response'!H2:H36, "a. Yes") -> 20 | M11: =COUNTIF('Survey Response'!H2:H36, "b. No") -> 6 | N11: =COUNTIF('Survey Response'!H2:H36, "c. Perhaps") -> 0
A12: 21-30 | B12: Male | C12: c. For sheer enjoyment | D12: b. 5-9 lbs. | E12: a. Eating more healthily | F12: b. No | G12: a. Extremely | H12: b. No | I12: b. Family | K12: Q:7 | L12: =COUNTIF('Survey Response'!I2:I36, "a. Yourself") -> 26 | M12: =COUNTIF('Survey Response'!I2:I36, "b. Family") -> 7 | N12: =COUNTIF('Survey Response'!I2:I36, "c. Friend") -> 2
A13: 41-50 | B13: Male | C13: b. To improve overall health | D13: a. 1-4 lbs. | E13: a. Eating more healthily | F13: c. Perhaps | G13: b. Moderate | H13: c. Maybe | I13: a. Yourself
A14: 21-30 | B14: Female | C14: a. To decrease body weight | D14: c. 9+ lbs. | E14: c. Exercising | F14: c. Perhaps | G14: c. Undecided | H14: c. Maybe | I14: a. Yourself
A15: 21-30 | B15: Female | C15: a. To decrease body weight | D15: c. 9+ lbs. | E15: a. Eating more healthily | F15: c. Perhaps | G15: c. Undecided | H15: c. Maybe | I15: b. Family
A16: 21-30 | B16: Male | C16: a. To decrease body weight | D16: a. 1-4 lbs. | E16: a. Eating more healthily | F16: c. Perhaps | G16: b. Moderate | H16: b. No | I16: a. Yourself
A17: 31-40 | B17: Male | C17: c. For sheer enjoyment | D17: a. 1-4 lbs. | E17: c. Exercising | F17: c. Perhaps | G17: a. Extremely | H17: a. Yes | I17: c. Friend
A18: 21-30 | B18: Female | C18: a. To decrease body weight | D18: a. 1-4 lbs. | E18: a. Eating more healthily | F18: a. Yes | G18: a. Extremely | H18: b. No | I18: a. Yourself
A19: 21-30 | B19: Female | C19: b. To improve overall health | D19: a. 1-4 lbs. | E19: a. Eating more healthily | F19: b. No | G19: a. Extremely | H19: a. Yes | I19: a. Yourself
A20: 21-30 | B20: Male | C20: a. To decrease body weight | D20: a. 1-4 lbs. | E20: a. Eating more healthily | F20: c. Perhaps | G20: c. Undecided | H20: a. Yes | I20: a. Yourself
A21: 21-30 | B21: Female | C21: a. To decrease body weight | D21: a. 1-4 lbs. | E21: a. Eating more healthily | F21: c. Perhaps | G21: b. Moderate | H21: b. No | I21: c. Friend
A22: 21-30 | B22: Male | C22: a. To decrease body weight | D22: a. 1-4 lbs. | E22: b. Detoxification Program | F22: c. Perhaps | G22: b. Moderate | H22: b. No | I22: a. Yourself
A23: 41-50 | B23: Female | C23: a. To decrease body weight | D23: c. 9+ lbs. | E23: a. Eating more healthily | F23: a. Yes | G23: a. Extremely | H23: a. Yes | I23: b. Family
A24: 21-30 | B24: Female | C24: b. To improve overall health | D24: a. 1-4 lbs. | E24: a. Eating more healthily | F24: c. Perhaps | G24: c. Undecided | H24: c. Maybe | I24: a. Yourself
... A36: 21-30 | B36: Male | C36: a. To decrease body weight | D36: a. 1-4 lbs. | E36: a. Eating more healthily | F36: c. Perhaps | G36: a. Extremely | H36: a. Yes | I36: a. Yourself

Sheet Q1-Reason
A2: 1. What is your reason for joining this 1-month program? | B2: Why are you participating in this one-month program?
A3: a. To lose weight | B3: a. To decrease body weight
A4: b. For better overall health | B4: a. To improve overall health
A5: c. For Fun | B5: a. For sheer enjoyment
B8: Frequency Table for reason for joining program
B9: Reason | C9: Frequency | D9: Percentage
B10: To decrease body weight | C10: 23 | D10: =C10/C13 -> 0.65714286
B11: To improve overall health | C11: 7 | D11: =C11/C13 -> 0.2
B12: For sheer enjoyment | C12: 5 | D12: =C12/C13 -> 0.14285714
B13: Total | C13: =SUM(C10:C12) -> 35 | D13: =SUM(D10:D12) -> 1
B28: Class intevals stay the same

Sheet Q2-Weight Loss Goal
A2: 2. What is your weight loss goal? | B2: What's your weight-loss objective?
A3: a. 1-4 lbs.
A4: b. 5-9 lbs.
A5: c. 9+ lbs.
B8: Frequency Table for Weight Loss objective
B9: Goal | C9: Frequency | D9: Percentage
B10: 1-4 lbs. | C10: 22 | D10: =C10/C13 -> 0.62857143
B11: 5-9 lbs. | C11: =COUNTIF('Survey Response'!D2:D33, "b. 5-9 lbs.") -> 4 | D11: =C11/C13 -> 0.11428571
B12: 9+ lbs. | C12: =COUNTIF('Survey Response'!D2:D33, "c. 9+ lbs.") -> 9 | D12: =C12/C13 -> 0.25714286
B13: Total | C13: =SUM(C10:C12) -> 35 | D13: =SUM(D10:D12) -> 1
B28: class intervals stay the same
